Package: Scale4C Version: 1.28.0 Command: chmod a+r Scale4C -R && F:\biocbuild\bbs-3.20-bioc\R\bin\R.exe CMD build --keep-empty-dirs --no-resave-data Scale4C StartedAt: 2025-02-03 21:52:22 -0500 (Mon, 03 Feb 2025) EndedAt: 2025-02-03 21:54:24 -0500 (Mon, 03 Feb 2025) EllapsedTime: 121.1 seconds RetCode: 0 Status: OK PackageFile: Scale4C_1.28.0.tar.gz PackageFileSize: 4.902 MiB