Package: Scale4C Version: 1.28.0 Command: F:\biocbuild\bbs-3.20-bioc\R\bin\R.exe CMD INSTALL Scale4C StartedAt: 2025-02-03 17:05:09 -0500 (Mon, 03 Feb 2025) EndedAt: 2025-02-03 17:05:50 -0500 (Mon, 03 Feb 2025) EllapsedTime: 41.6 seconds RetCode: 0 Status: OK