Package: Scale4C Version: 1.28.0 Command: /home/biocbuild/R/R/bin/R CMD build --keep-empty-dirs --no-resave-data Scale4C StartedAt: 2025-02-04 02:34:25 -0000 (Tue, 04 Feb 2025) EndedAt: 2025-02-04 02:36:46 -0000 (Tue, 04 Feb 2025) EllapsedTime: 141.2 seconds RetCode: 0 Status: OK PackageFile: Scale4C_1.28.0.tar.gz PackageFileSize: 4.896 MiB