Package: ScaledMatrix Version: 1.14.0 Command: /Library/Frameworks/R.framework/Resources/bin/R CMD build --keep-empty-dirs --no-resave-data ScaledMatrix StartedAt: 2025-02-04 07:16:58 -0500 (Tue, 04 Feb 2025) EndedAt: 2025-02-04 07:20:13 -0500 (Tue, 04 Feb 2025) EllapsedTime: 194.9 seconds RetCode: 0 Status: OK PackageFile: ScaledMatrix_1.14.0.tar.gz PackageFileSize: 305.9 KiB