Package: Sconify
Version: 1.26.0
Command: /Library/Frameworks/R.framework/Resources/bin/R CMD build --keep-empty-dirs --no-resave-data Sconify
StartedAt: 2025-02-18 07:33:41 -0500 (Tue, 18 Feb 2025)
EndedAt: 2025-02-18 07:34:21 -0500 (Tue, 18 Feb 2025)
EllapsedTime: 39.7 seconds
RetCode: 0
Status: OK
PackageFile: Sconify_1.26.0.tar.gz
PackageFileSize: 4.888 <A href="http://en.wikipedia.org/wiki/MiB" target="_blank">MiB</A>