Package: Sconify Version: 1.26.0 Command: /home/biocbuild/R/R/bin/R CMD build --keep-empty-dirs --no-resave-data Sconify StartedAt: 2024-11-20 03:45:07 -0000 (Wed, 20 Nov 2024) EndedAt: 2024-11-20 03:45:54 -0000 (Wed, 20 Nov 2024) EllapsedTime: 47.1 seconds RetCode: 0 Status: OK PackageFile: Sconify_1.26.0.tar.gz PackageFileSize: 4.464 <A href="http://en.wikipedia.org/wiki/MiB" target="_blank">MiB</A>