Package: Sconify Version: 1.26.0 Command: /Library/Frameworks/R.framework/Resources/bin/R CMD build --keep-empty-dirs --no-resave-data Sconify StartedAt: 2024-11-19 18:34:48 -0500 (Tue, 19 Nov 2024) EndedAt: 2024-11-19 18:35:34 -0500 (Tue, 19 Nov 2024) EllapsedTime: 45.6 seconds RetCode: 0 Status: OK PackageFile: Sconify_1.26.0.tar.gz PackageFileSize: 4.897 MiB