Package: Sconify Version: 1.26.0 Command: rm -rf Sconify.buildbin-libdir && mkdir Sconify.buildbin-libdir && F:\biocbuild\bbs-3.20-bioc\R\bin\R.exe CMD INSTALL --build --library=Sconify.buildbin-libdir Sconify_1.26.0.tar.gz StartedAt: 2025-02-04 09:28:07 -0500 (Tue, 04 Feb 2025) EndedAt: 2025-02-04 09:28:42 -0500 (Tue, 04 Feb 2025) EllapsedTime: 34.8 seconds RetCode: 0 Status: OK PackageFile: Sconify_1.26.0.zip PackageFileSize: 3.116 MiB