Package: Sconify Version: 1.26.0 Command: chmod a+r Sconify -R && F:\biocbuild\bbs-3.20-bioc\R\bin\R.exe CMD build --keep-empty-dirs --no-resave-data Sconify StartedAt: 2025-02-03 21:59:07 -0500 (Mon, 03 Feb 2025) EndedAt: 2025-02-03 21:59:59 -0500 (Mon, 03 Feb 2025) EllapsedTime: 51.1 seconds RetCode: 0 Status: OK PackageFile: Sconify_1.26.0.tar.gz PackageFileSize: 4.383 MiB