Package: Sconify Version: 1.26.0 Command: F:\biocbuild\bbs-3.20-bioc\R\bin\R.exe CMD INSTALL Sconify StartedAt: 2025-02-03 15:46:24 -0500 (Mon, 03 Feb 2025) EndedAt: 2025-02-03 15:46:56 -0500 (Mon, 03 Feb 2025) EllapsedTime: 31.7 seconds RetCode: 0 Status: OK