Package: Sconify Version: 1.26.0 Command: /home/biocbuild/R/R/bin/R CMD build --keep-empty-dirs --no-resave-data Sconify StartedAt: 2025-02-04 02:45:38 -0000 (Tue, 04 Feb 2025) EndedAt: 2025-02-04 02:46:35 -0000 (Tue, 04 Feb 2025) EllapsedTime: 57.1 seconds RetCode: 0 Status: OK PackageFile: Sconify_1.26.0.tar.gz PackageFileSize: 4.471 MiB