Package: Sconify Version: 1.26.0 Command: /home/biocbuild/R/R/bin/R CMD INSTALL Sconify StartedAt: 2025-02-03 20:34:23 -0000 (Mon, 03 Feb 2025) EndedAt: 2025-02-03 20:34:37 -0000 (Mon, 03 Feb 2025) EllapsedTime: 14.4 seconds RetCode: 0 Status: OK