Package: SemDist
Version: 1.40.0
Command: rm -rf SemDist.buildbin-libdir && mkdir SemDist.buildbin-libdir && /Users/biocbuild/BBS/utils/build-universal.sh SemDist_1.40.0.tar.gz /Library/Frameworks/R.framework/Resources/bin/R SemDist.buildbin-libdir
StartedAt: 2025-02-18 13:03:17 -0500 (Tue, 18 Feb 2025)
EndedAt: 2025-02-18 13:04:00 -0500 (Tue, 18 Feb 2025)
EllapsedTime: 43.6 seconds
RetCode: 0
Status: OK
PackageFile: SemDist_1.40.0.tgz
PackageFileSize: 1.99 <A href="http://en.wikipedia.org/wiki/MiB" target="_blank">MiB</A>