Package: SemDist Version: 1.40.0 Command: /home/biocbuild/R/R/bin/R CMD build --keep-empty-dirs --no-resave-data SemDist StartedAt: 2025-02-04 02:55:16 -0000 (Tue, 04 Feb 2025) EndedAt: 2025-02-04 02:56:09 -0000 (Tue, 04 Feb 2025) EllapsedTime: 52.1 seconds RetCode: 0 Status: OK PackageFile: SemDist_1.40.0.tar.gz PackageFileSize: 1.943 MiB