Package: SeqGSEA Version: 1.46.0 Command: chmod a+r SeqGSEA -R && F:\biocbuild\bbs-3.20-bioc\R\bin\R.exe CMD build --keep-empty-dirs --no-resave-data SeqGSEA StartedAt: 2025-02-03 22:06:09 -0500 (Mon, 03 Feb 2025) EndedAt: 2025-02-03 22:09:11 -0500 (Mon, 03 Feb 2025) EllapsedTime: 181.9 seconds RetCode: 0 Status: OK PackageFile: SeqGSEA_1.46.0.tar.gz PackageFileSize: 1.12 MiB