Package: SeqGate Version: 1.16.0 Command: /home/biocbuild/R/R/bin/R CMD INSTALL SeqGate StartedAt: 2025-02-03 20:30:41 -0000 (Mon, 03 Feb 2025) EndedAt: 2025-02-03 20:31:06 -0000 (Mon, 03 Feb 2025) EllapsedTime: 24.5 seconds RetCode: 0 Status: OK