Package: SeqGate
Version: 1.16.0
Command: /home/biocbuild/bbs-3.20-bioc/R/bin/R CMD check --install=check:SeqGate.install-out.txt --library=/home/biocbuild/bbs-3.20-bioc/R/site-library --timings SeqGate_1.16.0.tar.gz
StartedAt: 2024-11-20 09:35:28 -0500 (Wed, 20 Nov 2024)
EndedAt: 2024-11-20 09:38:02 -0500 (Wed, 20 Nov 2024)
EllapsedTime: 153.4 seconds
RetCode: 0
Status: OK
CheckDir: SeqGate.Rcheck
Warnings: 0