Package: SeqSQC Version: 1.28.0 Command: /Library/Frameworks/R.framework/Resources/bin/R CMD build --keep-empty-dirs --no-resave-data SeqSQC StartedAt: 2025-02-03 22:18:05 -0500 (Mon, 03 Feb 2025) EndedAt: 2025-02-03 22:20:00 -0500 (Mon, 03 Feb 2025) EllapsedTime: 114.7 seconds RetCode: 0 Status: OK PackageFile: SeqSQC_1.28.0.tar.gz PackageFileSize: 4.529 MiB