Package: SeqSQC Version: 1.28.0 Command: /home/biocbuild/bbs-3.20-bioc/R/bin/R CMD INSTALL SeqSQC StartedAt: 2025-01-30 15:34:44 -0500 (Thu, 30 Jan 2025) EndedAt: 2025-01-30 15:35:03 -0500 (Thu, 30 Jan 2025) EllapsedTime: 19.0 seconds RetCode: 0 Status: OK