Package: SeqSQC Version: 1.28.0 Command: rm -rf SeqSQC.buildbin-libdir && mkdir SeqSQC.buildbin-libdir && F:\biocbuild\bbs-3.20-bioc\R\bin\R.exe CMD INSTALL --build --library=SeqSQC.buildbin-libdir SeqSQC_1.28.0.tar.gz StartedAt: 2025-01-31 09:36:07 -0500 (Fri, 31 Jan 2025) EndedAt: 2025-01-31 09:37:13 -0500 (Fri, 31 Jan 2025) EllapsedTime: 65.8 seconds RetCode: 0 Status: OK PackageFile: SeqSQC_1.28.0.zip PackageFileSize: 4.654 MiB