Package: SeqSQC Version: 1.28.0 Command: chmod a+r SeqSQC -R && F:\biocbuild\bbs-3.20-bioc\R\bin\R.exe CMD build --keep-empty-dirs --no-resave-data SeqSQC StartedAt: 2025-01-30 21:50:15 -0500 (Thu, 30 Jan 2025) EndedAt: 2025-01-30 21:52:48 -0500 (Thu, 30 Jan 2025) EllapsedTime: 152.7 seconds RetCode: 0 Status: OK PackageFile: SeqSQC_1.28.0.tar.gz PackageFileSize: 4.338 MiB