Package: ShortRead Version: 1.64.0 Command: rm -rf ShortRead.buildbin-libdir && mkdir ShortRead.buildbin-libdir && /Users/biocbuild/BBS/utils/build-universal.sh ShortRead_1.64.0.tar.gz /Library/Frameworks/R.framework/Resources/bin/R ShortRead.buildbin-libdir StartedAt: 2024-11-09 17:12:13 -0500 (Sat, 09 Nov 2024) EndedAt: 2024-11-09 17:12:34 -0500 (Sat, 09 Nov 2024) EllapsedTime: 21.4 seconds RetCode: 0 Status: OK PackageFile: ShortRead_1.64.0.tgz PackageFileSize: 5.477 MiB