Package: ShortRead Version: 1.64.0 Command: /home/biocbuild/bbs-3.20-bioc/R/bin/R CMD INSTALL ShortRead StartedAt: 2025-02-03 15:38:17 -0500 (Mon, 03 Feb 2025) EndedAt: 2025-02-03 15:39:04 -0500 (Mon, 03 Feb 2025) EllapsedTime: 46.9 seconds RetCode: 0 Status: OK