Package: ShortRead
Version: 1.63.0
Command: rm -rf ShortRead.buildbin-libdir && mkdir ShortRead.buildbin-libdir && F:\biocbuild\bbs-3.20-bioc\R\bin\R.exe CMD INSTALL --build --library=ShortRead.buildbin-libdir ShortRead_1.63.0.tar.gz
StartedAt: 2024-06-10 15:07:15 -0400 (Mon, 10 Jun 2024)
EndedAt: 2024-06-10 15:12:28 -0400 (Mon, 10 Jun 2024)
EllapsedTime: 313.0 seconds
RetCode: 0
Status: OK
PackageFile: ShortRead_1.63.0.zip
PackageFileSize: 5.544 <A href="http://en.wikipedia.org/wiki/MiB" target="_blank">MiB</A>