Package: ShortRead
Version: 1.63.0
Command: chmod a+r ShortRead -R && C:\Users\biocbuild\bbs-3.20-bioc\R\bin\R.exe CMD build --keep-empty-dirs --no-resave-data ShortRead
StartedAt: 2024-07-15 20:51:13 -0400 (Mon, 15 Jul 2024)
EndedAt: 2024-07-15 20:53:50 -0400 (Mon, 15 Jul 2024)
EllapsedTime: 156.5 seconds
RetCode: 0
Status: OK
PackageFile: ShortRead_1.63.0.tar.gz
PackageFileSize: 5.059 <A href="http://en.wikipedia.org/wiki/MiB" target="_blank">MiB</A>