Package: ShortRead Version: 1.64.0 Command: /home/biocbuild/R/R/bin/R CMD build --keep-empty-dirs --no-resave-data ShortRead StartedAt: 2025-02-04 02:59:22 -0000 (Tue, 04 Feb 2025) EndedAt: 2025-02-04 03:01:05 -0000 (Tue, 04 Feb 2025) EllapsedTime: 103.2 seconds RetCode: 0 Status: OK PackageFile: ShortRead_1.64.0.tar.gz PackageFileSize: 5.129 MiB