Package: ShortRead Version: 1.64.0 Command: /home/biocbuild/R/R/bin/R CMD check --install=check:ShortRead.install-out.txt --library=/home/biocbuild/R/R/site-library --no-vignettes --timings ShortRead_1.64.0.tar.gz StartedAt: 2025-02-04 11:04:25 -0000 (Tue, 04 Feb 2025) EndedAt: 2025-02-04 11:09:19 -0000 (Tue, 04 Feb 2025) EllapsedTime: 294.5 seconds RetCode: 1 Status: ERROR CheckDir: ShortRead.Rcheck Warnings: NA