Package: ShortRead Version: 1.64.0 Command: /home/biocbuild/R/R/bin/R CMD INSTALL ShortRead StartedAt: 2025-02-03 20:46:19 -0000 (Mon, 03 Feb 2025) EndedAt: 2025-02-03 20:47:20 -0000 (Mon, 03 Feb 2025) EllapsedTime: 60.9 seconds RetCode: 0 Status: OK