Package: SiPSiC
Version: 1.6.0
Maintainer: Daniel Davis
MaintainerEmail: DanielDavis000 at gmail.com
git_url: https://git.bioconductor.org/packages/SiPSiC
git_branch: RELEASE_3_20
git_last_commit: 72032bd
git_last_commit_date: 2024-10-29 11:19:45 -0500 (Tue, 29 Oct 2024)