Package: SiPSiC Version: 1.6.0 Command: rm -rf SiPSiC.buildbin-libdir && mkdir SiPSiC.buildbin-libdir && /Users/biocbuild/BBS/utils/build-universal.sh SiPSiC_1.6.0.tar.gz /Library/Frameworks/R.framework/Resources/bin/R SiPSiC.buildbin-libdir StartedAt: 2025-02-05 17:52:44 -0500 (Wed, 05 Feb 2025) EndedAt: 2025-02-05 17:53:13 -0500 (Wed, 05 Feb 2025) EllapsedTime: 29.2 seconds RetCode: 0 Status: OK PackageFile: SiPSiC_1.6.0.tgz PackageFileSize: 246.7 KiB