Package: SiPSiC Version: 1.6.0 Command: /Library/Frameworks/R.framework/Resources/bin/R CMD build --keep-empty-dirs --no-resave-data SiPSiC StartedAt: 2025-02-04 08:31:21 -0500 (Tue, 04 Feb 2025) EndedAt: 2025-02-04 08:32:05 -0500 (Tue, 04 Feb 2025) EllapsedTime: 43.6 seconds RetCode: 0 Status: OK PackageFile: SiPSiC_1.6.0.tar.gz PackageFileSize: 236.7 KiB