Package: SiPSiC
Version: 1.6.0
Command: /Library/Frameworks/R.framework/Resources/bin/R CMD INSTALL SiPSiC
StartedAt: 2024-11-08 15:18:02 -0500 (Fri, 08 Nov 2024)
EndedAt: 2024-11-08 15:18:11 -0500 (Fri, 08 Nov 2024)
EllapsedTime: 8.5 seconds
RetCode: 0
Status: OK