Package: SiPSiC
Version: 1.6.0
Command: /Library/Frameworks/R.framework/Resources/bin/R CMD INSTALL SiPSiC
StartedAt: 2024-11-19 15:12:22 -0500 (Tue, 19 Nov 2024)
EndedAt: 2024-11-19 15:12:56 -0500 (Tue, 19 Nov 2024)
EllapsedTime: 33.9 seconds
RetCode: 0
Status: OK