Package: SiPSiC Version: 1.6.0 Command: /home/biocbuild/bbs-3.20-bioc/R/bin/R CMD build --keep-empty-dirs --no-resave-data --md5 SiPSiC StartedAt: 2025-02-03 19:22:41 -0500 (Mon, 03 Feb 2025) EndedAt: 2025-02-03 19:23:10 -0500 (Mon, 03 Feb 2025) EllapsedTime: 29.1 seconds RetCode: 0 Status: OK PackageFile: SiPSiC_1.6.0.tar.gz PackageFileSize: 237.7 KiB