Package: SiPSiC Version: 1.6.0 Command: /home/biocbuild/bbs-3.20-bioc/R/bin/R CMD check --install=check:SiPSiC.install-out.txt --library=/home/biocbuild/bbs-3.20-bioc/R/site-library --timings SiPSiC_1.6.0.tar.gz StartedAt: 2025-02-04 02:35:10 -0500 (Tue, 04 Feb 2025) EndedAt: 2025-02-04 02:37:41 -0500 (Tue, 04 Feb 2025) EllapsedTime: 151.1 seconds RetCode: 0 Status: OK CheckDir: SiPSiC.Rcheck Warnings: 0