Package: SiPSiC Version: 1.6.0 Command: /home/biocbuild/bbs-3.20-bioc/R/bin/R CMD INSTALL SiPSiC StartedAt: 2025-02-03 15:23:32 -0500 (Mon, 03 Feb 2025) EndedAt: 2025-02-03 15:23:52 -0500 (Mon, 03 Feb 2025) EllapsedTime: 20.4 seconds RetCode: 0 Status: OK