Package: SiPSiC Version: 1.6.0 Command: rm -rf SiPSiC.buildbin-libdir && mkdir SiPSiC.buildbin-libdir && F:\biocbuild\bbs-3.20-bioc\R\bin\R.exe CMD INSTALL --build --library=SiPSiC.buildbin-libdir SiPSiC_1.6.0.tar.gz StartedAt: 2025-02-04 09:33:04 -0500 (Tue, 04 Feb 2025) EndedAt: 2025-02-04 09:33:31 -0500 (Tue, 04 Feb 2025) EllapsedTime: 26.6 seconds RetCode: 0 Status: OK PackageFile: SiPSiC_1.6.0.zip PackageFileSize: 251.5 KiB