Package: SiPSiC Version: 1.6.0 Command: chmod a+r SiPSiC -R && F:\biocbuild\bbs-3.20-bioc\R\bin\R.exe CMD build --keep-empty-dirs --no-resave-data SiPSiC StartedAt: 2025-02-03 22:13:18 -0500 (Mon, 03 Feb 2025) EndedAt: 2025-02-03 22:13:57 -0500 (Mon, 03 Feb 2025) EllapsedTime: 39.2 seconds RetCode: 0 Status: OK PackageFile: SiPSiC_1.6.0.tar.gz PackageFileSize: 236.9 KiB