Package: SiPSiC Version: 1.6.0 Command: /home/biocbuild/R/R/bin/R CMD INSTALL SiPSiC StartedAt: 2025-02-03 20:33:40 -0000 (Mon, 03 Feb 2025) EndedAt: 2025-02-03 20:34:07 -0000 (Mon, 03 Feb 2025) EllapsedTime: 26.7 seconds RetCode: 0 Status: OK