Package: SigCheck Version: 2.38.0 Command: /Library/Frameworks/R.framework/Resources/bin/R CMD INSTALL SigCheck StartedAt: 2025-02-03 16:23:17 -0500 (Mon, 03 Feb 2025) EndedAt: 2025-02-03 16:24:22 -0500 (Mon, 03 Feb 2025) EllapsedTime: 64.7 seconds RetCode: 0 Status: OK