Package: SigCheck Version: 2.38.0 Command: /home/biocbuild/bbs-3.20-bioc/R/bin/R CMD INSTALL SigCheck StartedAt: 2025-02-03 15:53:19 -0500 (Mon, 03 Feb 2025) EndedAt: 2025-02-03 15:53:53 -0500 (Mon, 03 Feb 2025) EllapsedTime: 33.5 seconds RetCode: 0 Status: OK