Package: SigFuge Version: 1.44.0 Command: rm -rf SigFuge.buildbin-libdir && mkdir SigFuge.buildbin-libdir && /Users/biocbuild/BBS/utils/build-universal.sh SigFuge_1.44.0.tar.gz /Library/Frameworks/R.framework/Resources/bin/R SigFuge.buildbin-libdir StartedAt: 2025-02-05 17:49:54 -0500 (Wed, 05 Feb 2025) EndedAt: 2025-02-05 17:50:10 -0500 (Wed, 05 Feb 2025) EllapsedTime: 15.7 seconds RetCode: 0 Status: OK PackageFile: SigFuge_1.44.0.tgz PackageFileSize: 1.492 MiB