Package: SigFuge Version: 1.44.0 Command: /Library/Frameworks/R.framework/Resources/bin/R CMD check --install=check:SigFuge.install-out.txt --library=/Library/Frameworks/R.framework/Resources/library --no-vignettes --timings SigFuge_1.44.0.tar.gz StartedAt: 2025-02-05 10:13:14 -0500 (Wed, 05 Feb 2025) EndedAt: 2025-02-05 10:15:24 -0500 (Wed, 05 Feb 2025) EllapsedTime: 130.2 seconds RetCode: 0 Status: OK CheckDir: SigFuge.Rcheck Warnings: 0