Package: SigFuge Version: 1.44.0 Command: /Library/Frameworks/R.framework/Resources/bin/R CMD INSTALL SigFuge StartedAt: 2025-02-03 15:38:52 -0500 (Mon, 03 Feb 2025) EndedAt: 2025-02-03 15:39:00 -0500 (Mon, 03 Feb 2025) EllapsedTime: 7.6 seconds RetCode: 0 Status: OK