Package: SigFuge
Version: 1.44.0
Command: /home/biocbuild/R/R/bin/R CMD check --install=check:SigFuge.install-out.txt --library=/home/biocbuild/R/R/site-library --no-vignettes --timings SigFuge_1.44.0.tar.gz
StartedAt: 2024-11-20 12:27:56 -0000 (Wed, 20 Nov 2024)
EndedAt: 2024-11-20 12:30:40 -0000 (Wed, 20 Nov 2024)
EllapsedTime: 163.3 seconds
RetCode: 0
Status: OK
CheckDir: SigFuge.Rcheck
Warnings: 0