Package: SigFuge Version: 1.44.0 Command: /home/biocbuild/bbs-3.20-bioc/R/bin/R CMD build --keep-empty-dirs --no-resave-data --md5 SigFuge StartedAt: 2025-02-03 19:20:04 -0500 (Mon, 03 Feb 2025) EndedAt: 2025-02-03 19:20:54 -0500 (Mon, 03 Feb 2025) EllapsedTime: 50.1 seconds RetCode: 0 Status: OK PackageFile: SigFuge_1.44.0.tar.gz PackageFileSize: 1.459 MiB