Package: SigFuge Version: 1.44.0 Command: /home/biocbuild/bbs-3.20-bioc/R/bin/R CMD check --install=check:SigFuge.install-out.txt --library=/home/biocbuild/bbs-3.20-bioc/R/site-library --timings SigFuge_1.44.0.tar.gz StartedAt: 2025-02-04 02:30:04 -0500 (Tue, 04 Feb 2025) EndedAt: 2025-02-04 02:32:21 -0500 (Tue, 04 Feb 2025) EllapsedTime: 136.2 seconds RetCode: 0 Status: OK CheckDir: SigFuge.Rcheck Warnings: 0