Package: SigFuge Version: 1.44.0 Command: rm -rf SigFuge.buildbin-libdir && mkdir SigFuge.buildbin-libdir && F:\biocbuild\bbs-3.20-bioc\R\bin\R.exe CMD INSTALL --build --library=SigFuge.buildbin-libdir SigFuge_1.44.0.tar.gz StartedAt: 2025-02-04 09:31:27 -0500 (Tue, 04 Feb 2025) EndedAt: 2025-02-04 09:31:51 -0500 (Tue, 04 Feb 2025) EllapsedTime: 23.6 seconds RetCode: 0 Status: OK PackageFile: SigFuge_1.44.0.zip PackageFileSize: 1.498 MiB