Package: SigFuge Version: 1.44.0 Command: F:\biocbuild\bbs-3.20-bioc\R\bin\R.exe CMD check --no-multiarch --install=check:SigFuge.install-out.txt --library=F:\biocbuild\bbs-3.20-bioc\R\library --no-vignettes --timings SigFuge_1.44.0.tar.gz StartedAt: 2025-02-04 06:18:16 -0500 (Tue, 04 Feb 2025) EndedAt: 2025-02-04 06:20:37 -0500 (Tue, 04 Feb 2025) EllapsedTime: 141.2 seconds RetCode: 0 Status: OK CheckDir: SigFuge.Rcheck Warnings: 0