Package: SigsPack Version: 1.20.0 Command: /Library/Frameworks/R.framework/Resources/bin/R CMD check --install=check:SigsPack.install-out.txt --library=/Library/Frameworks/R.framework/Resources/library --no-vignettes --timings SigsPack_1.20.0.tar.gz StartedAt: 2024-11-20 02:42:08 -0500 (Wed, 20 Nov 2024) EndedAt: 2024-11-20 02:47:47 -0500 (Wed, 20 Nov 2024) EllapsedTime: 338.5 seconds RetCode: 0 Status: OK CheckDir: SigsPack.Rcheck Warnings: 0